BEGIN:VCALENDAR
VERSION:2.0
PRODID:-//eventon.com NONSGML v1.0//EN
CALSCALE:GREGORIAN
METHOD:PUBLISH
BEGIN:VEVENT
UID:69ea17becf9b0
DTSTAMP:20260423T125942Z
DTSTART:20260609T230000Z
DTEND:20260610T000000Z
LOCATION:https://tinyurl.com/3x8xsmzt
SUMMARY:June 9th Toolbox Tuesday Zoom - Cytomegalovirus (CMV) Awareness Month with Ellie Pryor
DESCRIPTION:Free June 9th Toolbox Tuesday Zoom &#8211; Cytomegalovirus (CMV
 ) Awareness Month with Ellie Pryor 6:00 PM-7:00 CST Register Now! By attend
 ing via Zoom\,  you can learn about Cytomegalovirus (CMV) and National CMV 
 Awareness Month: Register Now! June is National Cytomegalovirus (CMV) Aware
 ness Month\,  dedicated to educating the public about the[..]\nhttps://okla
 homafamilynetwork.org/events/june-9th-toolbox-tuesday-zoom-cytomegalovirus-
 cmv-awareness-month-with-ellie-pryor/var/event_access
URL:https://oklahomafamilynetwork.org/events/june-9th-toolbox-tuesday-zoom-cytomegalovirus-cmv-awareness-month-with-ellie-pryor/var/event_access
END:VEVENT
END:VCALENDAR