BEGIN:VCALENDAR
VERSION:2.0
PRODID:-//eventon.com NONSGML v1.0//EN
CALSCALE:GREGORIAN
METHOD:PUBLISH
BEGIN:VEVENT
UID:69ea24e42c61e
DTSTAMP:20260423T135548Z
DTSTART:20260626T130000Z
DTEND:20260626T220000Z
LOCATION:NCED Conference Center 2801 OK-9
SUMMARY:2026 Newborn Screening Symposium
DESCRIPTION:We are happy to share that the Oklahoma State Department of Hea
 lth is hosting a Newborn Screening  Symposium on Fri. June 26th at the NCE
 D Conference Center in Norman! Register Now! This event is offered at no co
 st to professionals\,  families\,  and advocates.  This will be an incredi
 ble day bringing[..]\nhttps://oklahomafamilynetwork.org/events/2026-newborn
 -screening-symposium/
URL:https://oklahomafamilynetwork.org/events/2026-newborn-screening-symposium/
END:VEVENT
END:VCALENDAR