BEGIN:VCALENDAR
VERSION:2.0
PRODID:-//eventon.com NONSGML v1.0//EN
CALSCALE:GREGORIAN
METHOD:PUBLISH
BEGIN:VEVENT
UID:69ea2b314a881
DTSTAMP:20260423T142241Z
DTSTART:20260512T230000Z
DTEND:20260513T000000Z
LOCATION:https://tinyurl.com/3x8xsmzt
SUMMARY:May 12th Toolbox Tuesday-Featuring Oklahoma Inclusive Post Secondary Education Alliance\,  Julie Lackey
DESCRIPTION:Free May 12th Toolbox Tuesday Zoom &#8211; Oklahoma Inclusive P
 ost Secondary Education Alliance\,  Julie Lackey 6:00 PM-7:00 CST Register 
 Now! By attending via Zoom\,  you can learn about the Oklahoma Inclusive Po
 st Secondary Education Alliance. Register Now! The Oklahoma Inclusive Post
  Secondary Education Alliance promotes access to college opportunities for
  Oklahoma students[..]\nhttps://oklahomafamilynetwork.org/events/may-12th-t
 oolbox-tuesday-featuring-oklahoma-inclusive-post-secondary-education-allian
 ce-julie-lackey/var/event_access
URL:https://oklahomafamilynetwork.org/events/may-12th-toolbox-tuesday-featuring-oklahoma-inclusive-post-secondary-education-alliance-julie-lackey/var/event_access
END:VEVENT
END:VCALENDAR