BEGIN:VCALENDAR
VERSION:2.0
PRODID:-//eventon.com NONSGML v1.0//EN
CALSCALE:GREGORIAN
METHOD:PUBLISH
BEGIN:VEVENT
UID:69ea17bdc65c8
DTSTAMP:20260423T125941Z
DTSTART:20260518T233000Z
DTEND:20260519T003000Z
LOCATION:
SUMMARY:Family Matters Learning Series: Taking Care of the Caregiver with Lauren Alvarez\,  MA\,  and Oklahoma Family Network
DESCRIPTION:Join us on May 18th at 6:30 PM on Zoom as Lauren Alvarez\,  MA\
 ,  presents on caring for the caregiver. Register in advance for this meet
 ing. Being a parent or a caregiver can be exhausting.  We can become so ov
 erwhelmed by the never-ending list of things to do that we lose[..]\nhttps:
 //oklahomafamilynetwork.org/events/family-matters-learning-series-taking-ca
 re-of-the-caregiver-with-lauren-alvarez-ma-and-oklahoma-family-network/
URL:https://oklahomafamilynetwork.org/events/family-matters-learning-series-taking-care-of-the-caregiver-with-lauren-alvarez-ma-and-oklahoma-family-network/
END:VEVENT
END:VCALENDAR