BEGIN:VCALENDAR
VERSION:2.0
PRODID:-//eventon.com NONSGML v1.0//EN
CALSCALE:GREGORIAN
METHOD:PUBLISH
BEGIN:VEVENT
UID:69ea31b31c921
DTSTAMP:20260423T145027Z
DTSTART:20260420T233000Z
DTEND:20260421T003000Z
LOCATION:
SUMMARY:Family Matters Learning Series: Building Powerful Connections with Kids Rethinking Discipline with Brain-Based Strategies with Lauren Alvarez\,  MA\,  and Oklahoma Family Network
DESCRIPTION:Join us on April 20th at 6:30 PM on Zoom as Lauren Alvarez\,  M
 A\,  presents on building powerful connections with kids. Register in advan
 ce for this meeting. Sometimes we are so focused on behavior that we don&#8
 217;t realize how powerful\,  purposeful relationships can be in responding
  to negative behavior and[..]\nhttps://oklahomafamilynetwork.org/events/fam
 ily-matters-learning-series-building-powerful-connections-with-kids-rethink
 ing-discipline-with-brain-based-strategies-with-lauren-alvarez-ma-and-oklah
 oma-family-network/
URL:https://oklahomafamilynetwork.org/events/family-matters-learning-series-building-powerful-connections-with-kids-rethinking-discipline-with-brain-based-strategies-with-lauren-alvarez-ma-and-oklahoma-family-network/
END:VEVENT
END:VCALENDAR