BEGIN:VCALENDAR
VERSION:2.0
PRODID:-//eventon.com NONSGML v1.0//EN
CALSCALE:GREGORIAN
METHOD:PUBLISH
BEGIN:VEVENT
UID:69ea17b6305be
DTSTAMP:20260423T125934Z
DTSTART:20260405T020000Z
DTEND:20260404T160000Z
LOCATION:Urban Air 3328 E 51st Street
SUMMARY:Calm Gatherings of Tulsa: Sensory-Friendly Hop\,  Jump & Fly Easter Event
DESCRIPTION:Join Calm Gatherings of Tulsa for a Sensory-Friendly Hop\,  Jum
 p &amp; Fly Easter Event on Saturday\,  April 4th\,  from 9:00 AM-11:00 AM 
 at Urban Air\,  3328 E. 51st Street\,  Tulsa.  Cost is $5 per jumper\,  pa
 yable at Urban Air on the day of the event\,  which includes a pair of[..]\
 nhttps://oklahomafamilynetwork.org/events/calm-gatherings-of-tulsa-sensory-
 friendly-hop-jump-fly-easter-event/
URL:https://oklahomafamilynetwork.org/events/calm-gatherings-of-tulsa-sensory-friendly-hop-jump-fly-easter-event/
END:VEVENT
END:VCALENDAR