BEGIN:VCALENDAR
VERSION:2.0
PRODID:-//eventon.com NONSGML v1.0//EN
CALSCALE:GREGORIAN
METHOD:PUBLISH
BEGIN:VEVENT
UID:69ea185942bab
DTSTAMP:20260423T130217Z
DTSTART:20260418T193000Z
DTEND:20260418T210000Z
LOCATION:Herman and Kate Kaiser Library 5202 S. Hudson Suite B
SUMMARY:Just Autistic Moms April Meet and Greet
DESCRIPTION:Join Just Autistic Moms for a Meet and Greet on 4/18 from 2:30 
 PM to 4:00 PM at the Herman and Kate Kaiser Library in Suite B\,  5202 S. H
 udson Ave. (No Childcare; Adults Only) Just Autistic Moms is a new Oklahoma
  support group for neurodivergent mothers. Their mission is[..]\nhttps://ok
 lahomafamilynetwork.org/events/just-autistic-moms-april-meet-and-greet/
URL:https://oklahomafamilynetwork.org/events/just-autistic-moms-april-meet-and-greet/
END:VEVENT
END:VCALENDAR