BEGIN:VCALENDAR
VERSION:2.0
PRODID:-//eventon.com NONSGML v1.0//EN
CALSCALE:GREGORIAN
METHOD:PUBLISH
BEGIN:VEVENT
UID:69ea17f5e9d3a
DTSTAMP:20260423T130037Z
DTSTART:20260407T130000Z
DTEND:20260408T210000Z
LOCATION:
SUMMARY:Free CLIMB - Financial Capability Family Champions Curriculum April 7th-9th
DESCRIPTION:Free training for financial capability! Apply by 3/31/26 Questi
 ons: https://www.familyhood.org/champions/training/\nhttps://oklahomafamily
 network.org/events/free-climb-financial-capability-family-champions-curricu
 lum-april-7th-9th/
URL:https://oklahomafamilynetwork.org/events/free-climb-financial-capability-family-champions-curriculum-april-7th-9th/
END:VEVENT
END:VCALENDAR