BEGIN:VCALENDAR
VERSION:2.0
PRODID:-//eventon.com NONSGML v1.0//EN
CALSCALE:GREGORIAN
METHOD:PUBLISH
BEGIN:VEVENT
UID:69ea2c18ecada
DTSTAMP:20260423T142632Z
DTSTART:20260602T130000Z
DTEND:20260603T210000Z
LOCATION:
SUMMARY:Free CLIMB - Financial Capability Family Champions Curriculum June 2nd-3rd
DESCRIPTION:Free training for financial capability! Apply by 5/26/26 Questi
 ons: https://www.familyhood.org/champions/training/\nhttps://oklahomafamily
 network.org/events/free-climb-financial-capability-family-champions-curricu
 lum-june-2nd-3rd/
URL:https://oklahomafamilynetwork.org/events/free-climb-financial-capability-family-champions-curriculum-june-2nd-3rd/
END:VEVENT
END:VCALENDAR