BEGIN:VCALENDAR
VERSION:2.0
PRODID:-//eventon.com NONSGML v1.0//EN
CALSCALE:GREGORIAN
METHOD:PUBLISH
BEGIN:VEVENT
UID:69ea17b7e84cc
DTSTAMP:20260423T125935Z
DTSTART:20260505T130000Z
DTEND:20260507T210000Z
LOCATION:
SUMMARY:Free On My Shoulders - Fatherhood Family Champions Curriculum Training May 5th-7th
DESCRIPTION:Free training for fatherhood and mindful decision-making! Apply
  by 4/23/26 Questions: https://www.familyhood.org/champions/training/\nhttp
 s://oklahomafamilynetwork.org/events/free-on-my-shoulders-fatherhood-family
 -champions-curriculum-healthy-relationships-training-may-5th-7th/
URL:https://oklahomafamilynetwork.org/events/free-on-my-shoulders-fatherhood-family-champions-curriculum-healthy-relationships-training-may-5th-7th/
END:VEVENT
END:VCALENDAR