BEGIN:VCALENDAR
VERSION:2.0
PRODID:-//eventon.com NONSGML v1.0//EN
CALSCALE:GREGORIAN
METHOD:PUBLISH
BEGIN:VEVENT
UID:69ea1859d2fcc
DTSTAMP:20260423T130217Z
DTSTART:20260414T130000Z
DTEND:20260416T210000Z
LOCATION:
SUMMARY:Free PREP Family Champions Curriculum Healthy Relationships Training April 14th-16th (Virtual)
DESCRIPTION:Free training for strengthening communication! Apply by 3/31/26
  Questions: https://www.familyhood.org/champions/training/\nhttps://oklahom
 afamilynetwork.org/events/free-prep-family-champions-curriculum-healthy-rel
 ationships-training-april-14th-16th-virtual/
URL:https://oklahomafamilynetwork.org/events/free-prep-family-champions-curriculum-healthy-relationships-training-april-14th-16th-virtual/
END:VEVENT
END:VCALENDAR