BEGIN:VCALENDAR
VERSION:2.0
PRODID:-//eventon.com NONSGML v1.0//EN
CALSCALE:GREGORIAN
METHOD:PUBLISH
BEGIN:VEVENT
UID:69ea2ac491a81
DTSTAMP:20260423T142052Z
DTSTART:20260623T130000Z
DTEND:20260625T210000Z
LOCATION:
SUMMARY:Free PREP Family Champions Curriculum Healthy Relationships Training June 23rd-June 25th
DESCRIPTION:Free training for strengthening communication! Apply by 6/26/26
  Questions: https://www.familyhood.org/champions/training/\nhttps://oklahom
 afamilynetwork.org/events/free-prep-family-champions-curriculum-healthy-rel
 ationships-training-june-23rd-june-25th/
URL:https://oklahomafamilynetwork.org/events/free-prep-family-champions-curriculum-healthy-relationships-training-june-23rd-june-25th/
END:VEVENT
END:VCALENDAR