BEGIN:VCALENDAR
VERSION:2.0
PRODID:-//eventon.com NONSGML v1.0//EN
CALSCALE:GREGORIAN
METHOD:PUBLISH
BEGIN:VEVENT
UID:69ea17bcc4370
DTSTAMP:20260423T125940Z
DTSTART:20260609T130000Z
DTEND:20260609T210000Z
LOCATION:
SUMMARY:Free Within My Reach Family Champions Curriculum Healthy Relationships Training June 9th-June 11th
DESCRIPTION:Free training for healthy relationships! Apply by 6/2/26 Questi
 ons: https://www.familyhood.org/champions/training/\nhttps://oklahomafamily
 network.org/events/free-within-my-reach-family-champions-curriculum-healthy
 -relationships-training-june-9th-june-11th/
URL:https://oklahomafamilynetwork.org/events/free-within-my-reach-family-champions-curriculum-healthy-relationships-training-june-9th-june-11th/
END:VEVENT
END:VCALENDAR