BEGIN:VCALENDAR
VERSION:2.0
PRODID:-//eventon.com NONSGML v1.0//EN
CALSCALE:GREGORIAN
METHOD:PUBLISH
BEGIN:VEVENT
UID:69ea17f82f142
DTSTAMP:20260423T130040Z
DTSTART:20260411T130000Z
DTEND:20260412T210000Z
LOCATION:
SUMMARY:Wellspring Weekend: Parents Caring for a Child with Special Needs or Autism in Tulsa
DESCRIPTION:Join other couples and individuals from across the state for a 
 fun FREE weekend! Register! This event is for Parents Caring for a Child wi
 th Special Needs or Autism. You&#8217;ll connect with new friends and disco
 ver helpful resources for your family. Wellspring Weekends are for first-ti
 me attendees only. Children do[..]\nhttps://oklahomafamilynetwork.org/event
 s/wellspring-weekend-parents-caring-for-a-child-with-special-needs-or-autis
 m-in-tulsa/
URL:https://oklahomafamilynetwork.org/events/wellspring-weekend-parents-caring-for-a-child-with-special-needs-or-autism-in-tulsa/
END:VEVENT
END:VCALENDAR