BEGIN:VCALENDAR
VERSION:2.0
PRODID:-//eventon.com NONSGML v1.0//EN
CALSCALE:GREGORIAN
METHOD:PUBLISH
BEGIN:VEVENT
UID:69ea18152e807
DTSTAMP:20260423T130109Z
DTSTART:20260414T230000Z
DTEND:20260415T000000Z
LOCATION:https://tinyurl.com/3x8xsmzt
SUMMARY:Apr. 14th Toolbox Tuesday-Featuring Pregnancy Resource Navigator Program\,  Ok State Dept. of Health
DESCRIPTION:Free April 14th Toolbox Tuesday Zoom &#8211; Pregnancy Resource
  Navigator Program\,  Ok State Dept. of Health 6:00 PM-7:00 CST Register No
 w! By attending via Zoom\,  you can learn about the Pregnancy Resource Navi
 gator Program through the Oklahoma State Department of Health. Register Now
 ! Pregnancy Resource Navigators (PRNs) are available to[..]\nhttps://oklaho
 mafamilynetwork.org/events/apr-14th-toolbox-tuesday-featuring-pregnancy-res
 ource-navigator-program-ok-state-dept-of-health/var/event_access
URL:https://oklahomafamilynetwork.org/events/apr-14th-toolbox-tuesday-featuring-pregnancy-resource-navigator-program-ok-state-dept-of-health/var/event_access
END:VEVENT
END:VCALENDAR