BEGIN:VCALENDAR
VERSION:2.0
PRODID:-//eventon.com NONSGML v1.0//EN
CALSCALE:GREGORIAN
METHOD:PUBLISH
BEGIN:VEVENT
UID:69ea31f40f745
DTSTAMP:20260423T145132Z
DTSTART:20260405T040000Z
DTEND:20260404T190000Z
LOCATION:OKC Lions Club 4135 NW 10th Street
SUMMARY:Mind in Motion: Free Event for Tulsa Families Prioritize Mental Wellness and Strenghen Our Community
DESCRIPTION:Tulsa-area families of children come to the 2026 Mind in Motion
  on April 4\,  2026\,  at the QT Lawn at the Gathering Place\,  2650 S. Joh
 n Williams Way. This is a free outdoor event! • Resources for the whole b
 ody and mind • Fun and interactive activities • Food available[..]\nhtt
 ps://oklahomafamilynetwork.org/events/mind-in-motion-tulsa-families-priorit
 ize-mental-wellness-and-strenghen-our-community/
URL:https://oklahomafamilynetwork.org/events/mind-in-motion-tulsa-families-prioritize-mental-wellness-and-strenghen-our-community/
END:VEVENT
END:VCALENDAR