BEGIN:VCALENDAR
VERSION:2.0
PRODID:-//eventon.com NONSGML v1.0//EN
CALSCALE:GREGORIAN
METHOD:PUBLISH
BEGIN:VEVENT
UID:69ea1814a3f10
DTSTAMP:20260423T130108Z
DTSTART:20260404T180000Z
DTEND:20260404T190000Z
LOCATION:OKC Lions Club 4135 NW 10th Street
SUMMARY:Beeping Easter Egg Hunt:
DESCRIPTION:Families of children who are blind and their siblings join the 
 Heartland Center for the Blind for the 2026 Beeping Easter Egg Hunt on Apri
 l 4\,  2026\,  at the Lions Club 4135 NW 10th in Oklahoma City. Call to res
 erve a space (405) 642-1068. The event is free.\nhttps://oklahomafamilynetw
 ork.org/events/beeping-easter-egg-hunt/
URL:https://oklahomafamilynetwork.org/events/beeping-easter-egg-hunt/
END:VEVENT
END:VCALENDAR