BEGIN:VCALENDAR
VERSION:2.0
PRODID:-//eventon.com NONSGML v1.0//EN
CALSCALE:GREGORIAN
METHOD:PUBLISH
BEGIN:VEVENT
UID:69ea319612613
DTSTAMP:20260423T144958Z
DTSTART:20260905T160000Z
DTEND:20260905T190000Z
LOCATION:
SUMMARY:CREOKS and Mental Health Association Sibshops - Tulsa
DESCRIPTION:Sibshops are for the siblings of children with special health n
 eeds or disabilities. Siblings will enjoy a day of action packed workshops\
 ,  activities\,  games\,  information and encouragement to connect with the
 ir peers. Register Now!The group meets 11:00am -2:00pm. (Please ARRIVE by 1
 0:30am to complete paperwork)Light Breakfast starts at 10:30am. Lunch[..]\n
 https://oklahomafamilynetwork.org/events/creoks-and-mental-health-associati
 on-sibshops-tulsa-3/
URL:https://oklahomafamilynetwork.org/events/creoks-and-mental-health-association-sibshops-tulsa-3/
END:VEVENT
END:VCALENDAR