BEGIN:VCALENDAR
VERSION:2.0
PRODID:-//eventon.com NONSGML v1.0//EN
CALSCALE:GREGORIAN
METHOD:PUBLISH
BEGIN:VEVENT
UID:69ea17bd44d08
DTSTAMP:20260423T125941Z
DTSTART:20261118T013000Z
DTEND:20261118T024500Z
LOCATION:
SUMMARY:Mom's Oncology Bereavement Support Group
DESCRIPTION:No mother should have to experience the heartache of losing a c
 hild to cancer\,  and no one understands this better than any mother who ha
 s walked this path. This is a group where kindred hearts can connect to tho
 se who truly understand your heartache. Meets Every Other Month at 7:30[..]
 \nhttps://oklahomafamilynetwork.org/events/moms-oncology-bereavement-suppor
 t-group-6/
URL:https://oklahomafamilynetwork.org/events/moms-oncology-bereavement-support-group-6/
END:VEVENT
END:VCALENDAR