BEGIN:VCALENDAR
VERSION:2.0
PRODID:-//eventon.com NONSGML v1.0//EN
CALSCALE:GREGORIAN
METHOD:PUBLISH
BEGIN:VEVENT
UID:69ea1813cdacf
DTSTAMP:20260423T130107Z
DTSTART:20260722T003000Z
DTEND:20260722T014500Z
LOCATION:
SUMMARY:Mom's Oncology Bereavement Support Group
DESCRIPTION:No mother should have to experience the heartache of losing a c
 hild to cancer\,  and no one understands this better than any mother who ha
 s walked this path. This is a group where kindred hearts can connect to tho
 se who truly understand your heartache. Meets Every Other Month at 7:30[..]
 \nhttps://oklahomafamilynetwork.org/events/moms-oncology-bereavement-suppor
 t-group-4/
URL:https://oklahomafamilynetwork.org/events/moms-oncology-bereavement-support-group-4/
END:VEVENT
END:VCALENDAR