BEGIN:VCALENDAR
VERSION:2.0
PRODID:-//eventon.com NONSGML v1.0//EN
CALSCALE:GREGORIAN
METHOD:PUBLISH
BEGIN:VEVENT
UID:69ea2be93086b
DTSTAMP:20260423T142545Z
DTSTART:20270107T000000Z
DTEND:20270107T010000Z
LOCATION:
SUMMARY:Pasito a Pasito: Grupo de Apoyo proporciona apoyo a los padres con hijos con habilidades diferentes
DESCRIPTION:Pasito a Pasito- El primero y tercer Miercoles de cada mes de 6
 pm-7pm. Registro : Este grupo de apoyo brinda apoyo a los padres de hijos 
 con habilidades diferentes.\nhttps://oklahomafamilynetwork.org/events/pasit
 o-a-pasito-grupo-de-apoyo-proporciona-apoyo-a-los-padres-con-hijos-con-habi
 lidades-diferentes/var/ri-22.l-L1
URL:https://oklahomafamilynetwork.org/events/pasito-a-pasito-grupo-de-apoyo-proporciona-apoyo-a-los-padres-con-hijos-con-habilidades-diferentes/var/ri-22.l-L1
END:VEVENT
END:VCALENDAR