BEGIN:VCALENDAR
VERSION:2.0
PRODID:-//eventon.com NONSGML v1.0//EN
CALSCALE:GREGORIAN
METHOD:PUBLISH
BEGIN:VEVENT
UID:69ea1bd60b137
DTSTAMP:20260423T131710Z
DTSTART:20261118T013000Z
DTEND:20261118T024500Z
LOCATION:
SUMMARY:Cultivating Connections: Conversation and Support Group for Parents - Pediatric Oncology/Hematology - November
DESCRIPTION:Registration Link\nhttps://oklahomafamilynetwork.org/events/cul
 tivating-connections-conversation-and-support-group-for-parents-pediatric-o
 ncology-hematology-november/
URL:https://oklahomafamilynetwork.org/events/cultivating-connections-conversation-and-support-group-for-parents-pediatric-oncology-hematology-november/
END:VEVENT
END:VCALENDAR