BEGIN:VCALENDAR
VERSION:2.0
PRODID:-//eventon.com NONSGML v1.0//EN
CALSCALE:GREGORIAN
METHOD:PUBLISH
BEGIN:VEVENT
UID:69ea31b29a883
DTSTAMP:20260423T145026Z
DTSTART:19700101
DTEND:19700102
LOCATION:
SUMMARY:Cultivating Connections: Conversation and Support Group for Parents - Pediatric Oncology/Hematology
DESCRIPTION:Registration Link\nhttps://oklahomafamilynetwork.org/events/cul
 tivating-connections-conversation-and-support-group-for-parents-pediatric-o
 ncology-hematology/
URL:https://oklahomafamilynetwork.org/events/cultivating-connections-conversation-and-support-group-for-parents-pediatric-oncology-hematology/
END:VEVENT
END:VCALENDAR