BEGIN:VCALENDAR
VERSION:2.0
PRODID:-//eventon.com NONSGML v1.0//EN
CALSCALE:GREGORIAN
METHOD:PUBLISH
BEGIN:VEVENT
UID:69ea1815aec15
DTSTAMP:20260423T130109Z
DTSTART:20260402T133000Z
DTEND:20260402T173000Z
LOCATION:Oklahoma State Capitol 2300 N Lincoln
SUMMARY:Autism Advocacy Day
DESCRIPTION:Oklahoma State Capitol Address: 2300 N Lincoln Blvd\,  Oklahoma
  City\,  OK\,  73105\nhttps://oklahomafamilynetwork.org/events/autism-advoc
 acy-day/
URL:https://oklahomafamilynetwork.org/events/autism-advocacy-day/
END:VEVENT
END:VCALENDAR