BEGIN:VCALENDAR
VERSION:2.0
PRODID:-//eventon.com NONSGML v1.0//EN
CALSCALE:GREGORIAN
METHOD:PUBLISH
BEGIN:VEVENT
UID:69ea31b38619e
DTSTAMP:20260423T145027Z
DTSTART:20260516T180000Z
DTEND:20260516T210000Z
LOCATION:Happy Hands Education Center 8801 S Garnett Rd
SUMMARY:May Sibshop Ages 10-14
DESCRIPTION:Sibshops are action-packed workshops that celebrate the many co
 ntributions made by brothers and sisters of kids with special needs.&nbsp;T
 o register\,  call or text Lora Roberts at (918) 698-6152 or email lora-rob
 erts@oklahomafamilynetwork.org. The workshop includes activities\,  informa
 tion\,  and games\,  and encourages the siblings to connect. Ages 5-9/: 9/2
 0/25\,  11/15/25\,  2/21/26\,  4/18/26[..]\nhttps://oklahomafamilynetwork.o
 rg/events/may-sibshop-ages-10-14/
URL:https://oklahomafamilynetwork.org/events/may-sibshop-ages-10-14/
END:VEVENT
END:VCALENDAR