BEGIN:VCALENDAR
VERSION:2.0
PRODID:-//eventon.com NONSGML v1.0//EN
CALSCALE:GREGORIAN
METHOD:PUBLISH
BEGIN:VEVENT
UID:69ea185a45322
DTSTAMP:20260423T130218Z
DTSTART:20260418T180000Z
DTEND:20260418T210000Z
LOCATION:Happy Hands Education Center 8801 S Garnett Rd
SUMMARY:April Sibshop Ages 5-9
DESCRIPTION:Sibshops are action-packed workshops that celebrate the many co
 ntributions made by brothers and sisters of kids with special needs.&nbsp;T
 o register\,  call or text Lora Roberts at (918) 698-6152 or email lora-rob
 erts@oklahomafamilynetwork.org. The workshop includes activities\,  informa
 tion\,  and games\,  and encourages the siblings to connect. Ages 5-9/: 9/2
 0/25\,  11/15/25\,  2/21/26\,  4/18/26[..]\nhttps://oklahomafamilynetwork.o
 rg/events/april-sibshop-ages-5-9/
URL:https://oklahomafamilynetwork.org/events/april-sibshop-ages-5-9/
END:VEVENT
END:VCALENDAR